BEGIN:VCALENDAR
VERSION:2.0
PRODID:-//Tukios.com/
BEGIN:VEVENT
UID:ab9cd2ee-f700-4490-8bc4-9c870e0f81cf@www.mcphfh.com
DTSTAMP:20260424T024501Z
DTSTART:20260502T170000Z
DTEND:20260502T180000Z
SUMMARY:Celebration of Life
DESCRIPTION:
URL:https://www.mcphfh.com/obituaries/reggie-latham
LOCATION: 1325 E Main St  Union City TN 38261
GEO:36.4243304;-89.0420975
END:VEVENT
END:VCALENDAR