BEGIN:VCALENDAR
VERSION:2.0
PRODID:-//Tukios.com/
BEGIN:VEVENT
UID:55375f23-c33f-4c78-961e-1cd593efb4ce@www.mcphfh.com
DTSTAMP:20260424T024144Z
DTSTART:20260502T160000Z
DTEND:20260502T180000Z
SUMMARY:Visitation
DESCRIPTION:
URL:https://www.mcphfh.com/obituaries/reggie-latham
LOCATION: 1325 E Main St  Union City TN 38261
GEO:36.4243304;-89.0420975
END:VEVENT
END:VCALENDAR